BEGIN:VCALENDAR
BEGIN:VTIMEZONE
TZID:Europe/Berlin
X-LIC-LOCATION:Europe/Berlin
BEGIN:DAYLIGHT
TZOFFSETFROM:+0100
TZOFFSETTO:+0200
TZNAME:CEST
DTSTART:19700329T020000
RRULE:FREQ=YEARLY;BYMONTH=3;BYDAY=-1SU
END:DAYLIGHT
BEGIN:STANDARD
TZOFFSETFROM:+0200
TZOFFSETTO:+0100
TZNAME:CET
DTSTART:19701025T030000
RRULE:FREQ=YEARLY;BYMONTH=10;BYDAY=-1SU
END:STANDARD
END:VTIMEZONE
BEGIN:VEVENT
UID:veranstaltung57285@vereinonline.org
SUMMARY;CHARSET=utf-8:Workshop "Music & Friends"
DESCRIPTION;CHARSET=utf-8:\nhttps://www.ftm-verein.de/?veranstaltung=57285
LOCATION;CHARSET=utf-8:Oberau 2\, 96231 Bad Staffelstein
DTSTART;VALUE=DATE:20260521
DTEND;VALUE=DATE:20260526
DTSTAMP:20260419T163402Z
LAST-MODIFIED:20260419T163402Z
CATEGORIES:Freunde Theokratischer Musik e.V.
CLASS:PUBLIC
PRIORITY:5
SEQUENCE:0
TRANSP:TRANSPARENT
X-MICROSOFT-CDO-BUSYSTATUS:FREE
X-MICROSOFT-CDO-IMPORTANCE:1
X-MICROSOFT-DISALLOW-COUNTER:FALSE
X-MS-OLK-ALLOWEXTERNCHECK:TRUE
X-MS-OLK-AUTOSTARTCHECK:FALSE
X-MS-OLK-CONFTYPE:0
END:VEVENT
END:VCALENDAR
